Package: MoonlightR Version: 1.30.0 Command: /Library/Frameworks/R.framework/Resources/bin/R CMD build --keep-empty-dirs --no-resave-data MoonlightR StartedAt: 2024-10-16 21:09:07 -0400 (Wed, 16 Oct 2024) EndedAt: 2024-10-16 21:15:31 -0400 (Wed, 16 Oct 2024) EllapsedTime: 384.1 seconds RetCode: 0 Status: OK PackageFile: MoonlightR_1.30.0.tar.gz PackageFileSize: 15.56 MiB