Package: MoonlightR Version: 1.30.0 Command: /Library/Frameworks/R.framework/Resources/bin/R CMD check --install=check:MoonlightR.install-out.txt --library=/Library/Frameworks/R.framework/Resources/library --no-vignettes --timings MoonlightR_1.30.0.tar.gz StartedAt: 2024-06-10 22:40:55 -0400 (Mon, 10 Jun 2024) EndedAt: 2024-06-10 23:20:55 -0400 (Mon, 10 Jun 2024) EllapsedTime: 2400.9 seconds RetCode: None Status: TIMEOUT CheckDir: MoonlightR.Rcheck Warnings: NA