Package: MoonlightR Version: 1.30.0 Command: rm -rf MoonlightR.buildbin-libdir && mkdir MoonlightR.buildbin-libdir && /Users/biocbuild/BBS/utils/build-universal.sh MoonlightR_1.30.0.tar.gz /Library/Frameworks/R.framework/Resources/bin/R MoonlightR.buildbin-libdir StartedAt: 2024-06-11 12:08:19 -0400 (Tue, 11 Jun 2024) EndedAt: 2024-06-11 12:44:36 -0400 (Tue, 11 Jun 2024) EllapsedTime: 2177.1 seconds RetCode: 0 Status: OK PackageFile: MoonlightR_1.30.0.tgz PackageFileSize: 10.04 MiB