Package: MoonlightR Version: 1.30.0 Command: rm -rf MoonlightR.buildbin-libdir && mkdir MoonlightR.buildbin-libdir && /Users/biocbuild/BBS/utils/build-universal.sh MoonlightR_1.30.0.tar.gz /Library/Frameworks/R.framework/Resources/bin/R MoonlightR.buildbin-libdir StartedAt: 2024-10-18 19:32:23 -0400 (Fri, 18 Oct 2024) EndedAt: 2024-10-18 19:34:00 -0400 (Fri, 18 Oct 2024) EllapsedTime: 96.7 seconds RetCode: 0 Status: OK PackageFile: MoonlightR_1.30.0.tgz PackageFileSize: 10.04 MiB