Package: Moonlight2R Version: 1.2.0 Command: E:\biocbuild\bbs-3.19-bioc\R\bin\R.exe CMD check --no-multiarch --install=check:Moonlight2R.install-out.txt --library=E:\biocbuild\bbs-3.19-bioc\R\library --no-vignettes --timings Moonlight2R_1.2.0.tar.gz StartedAt: 2024-10-17 03:33:29 -0400 (Thu, 17 Oct 2024) EndedAt: 2024-10-17 03:47:11 -0400 (Thu, 17 Oct 2024) EllapsedTime: 821.6 seconds RetCode: 1 Status: ERROR CheckDir: Moonlight2R.Rcheck Warnings: NA