Package: Moonlight2R Version: 1.2.0 Command: chmod a+r Moonlight2R -R && E:\biocbuild\bbs-3.19-bioc\R\bin\R.exe CMD build --keep-empty-dirs --no-resave-data Moonlight2R StartedAt: 2024-10-16 20:26:16 -0400 (Wed, 16 Oct 2024) EndedAt: 2024-10-16 20:33:40 -0400 (Wed, 16 Oct 2024) EllapsedTime: 444.3 seconds RetCode: 0 Status: OK PackageFile: Moonlight2R_1.2.0.tar.gz PackageFileSize: 4.487 MiB