Package: Moonlight2R Version: 1.2.0 Command: rm -rf Moonlight2R.buildbin-libdir && mkdir Moonlight2R.buildbin-libdir && E:\biocbuild\bbs-3.19-bioc\R\bin\R.exe CMD INSTALL --build --library=Moonlight2R.buildbin-libdir Moonlight2R_1.2.0.tar.gz StartedAt: 2024-10-17 08:10:33 -0400 (Thu, 17 Oct 2024) EndedAt: 2024-10-17 08:12:06 -0400 (Thu, 17 Oct 2024) EllapsedTime: 93.4 seconds RetCode: 0 Status: OK PackageFile: Moonlight2R_1.2.0.zip PackageFileSize: 4.281 MiB