Package: Moonlight2R Version: 1.2.0 Command: F:\biocbuild\bbs-3.19-bioc\R\bin\R.exe CMD check --no-multiarch --install=check:Moonlight2R.install-out.txt --library=F:\biocbuild\bbs-3.19-bioc\R\library --no-vignettes --timings Moonlight2R_1.2.0.tar.gz StartedAt: 2024-06-27 03:49:12 -0400 (Thu, 27 Jun 2024) EndedAt: 2024-06-27 04:02:21 -0400 (Thu, 27 Jun 2024) EllapsedTime: 788.4 seconds RetCode: 0 Status: OK CheckDir: Moonlight2R.Rcheck Warnings: 0