Package: Moonlight2R Version: 1.2.0 Command: rm -rf Moonlight2R.buildbin-libdir && mkdir Moonlight2R.buildbin-libdir && F:\biocbuild\bbs-3.19-bioc\R\bin\R.exe CMD INSTALL --build --library=Moonlight2R.buildbin-libdir Moonlight2R_1.2.0.tar.gz StartedAt: 2024-06-27 08:32:09 -0400 (Thu, 27 Jun 2024) EndedAt: 2024-06-27 08:33:36 -0400 (Thu, 27 Jun 2024) EllapsedTime: 86.4 seconds RetCode: 0 Status: OK PackageFile: Moonlight2R_1.2.0.zip PackageFileSize: 4.281 MiB