Package: Moonlight2R Version: 1.2.0 Command: /home/biocbuild/bbs-3.19-bioc/R/bin/R CMD INSTALL Moonlight2R StartedAt: 2024-10-16 16:34:49 -0400 (Wed, 16 Oct 2024) EndedAt: 2024-10-16 16:35:40 -0400 (Wed, 16 Oct 2024) EllapsedTime: 50.1 seconds RetCode: 0 Status: OK