Package: Moonlight2R Version: 1.2.0 Command: /home/biocbuild/R/R-beta-2024-04-15_r86425/bin/R CMD check --install=check:Moonlight2R.install-out.txt --library=/home/biocbuild/R/R-beta-2024-04-15_r86425/site-library --no-vignettes --timings Moonlight2R_1.2.0.tar.gz StartedAt: 2024-05-09 09:39:43 -0000 (Thu, 09 May 2024) EndedAt: 2024-05-09 09:54:46 -0000 (Thu, 09 May 2024) EllapsedTime: 902.6 seconds RetCode: 0 Status: OK CheckDir: Moonlight2R.Rcheck Warnings: 0