Package: Moonlight2R Version: 1.2.0 Command: /Library/Frameworks/R.framework/Resources/bin/R CMD build --keep-empty-dirs --no-resave-data Moonlight2R StartedAt: 2024-06-10 01:00:02 -0400 (Mon, 10 Jun 2024) EndedAt: 2024-06-10 01:40:03 -0400 (Mon, 10 Jun 2024) EllapsedTime: 2400.7 seconds RetCode: None Status: TIMEOUT PackageFile: None PackageFileSize: NA