Package: Moonlight2R Version: 1.2.0 Command: rm -rf Moonlight2R.buildbin-libdir && mkdir Moonlight2R.buildbin-libdir && /Users/biocbuild/BBS/utils/build-universal.sh Moonlight2R_1.2.0.tar.gz /Library/Frameworks/R.framework/Resources/bin/R Moonlight2R.buildbin-libdir StartedAt: 2024-05-31 07:18:38 -0400 (Fri, 31 May 2024) EndedAt: 2024-05-31 07:19:00 -0400 (Fri, 31 May 2024) EllapsedTime: 21.3 seconds RetCode: 0 Status: OK PackageFile: Moonlight2R_1.2.0.tgz PackageFileSize: 4.3 MiB