Package: Moonlight2R Version: 1.2.0 Command: /Library/Frameworks/R.framework/Resources/bin/R CMD INSTALL Moonlight2R StartedAt: 2024-10-16 18:15:49 -0400 (Wed, 16 Oct 2024) EndedAt: 2024-10-16 18:16:50 -0400 (Wed, 16 Oct 2024) EllapsedTime: 60.9 seconds RetCode: 0 Status: OK