Package: Moonlight2R Version: 1.2.0 Command: /Library/Frameworks/R.framework/Resources/bin/R CMD check --install=check:Moonlight2R.install-out.txt --library=/Library/Frameworks/R.framework/Resources/library --no-vignettes --timings Moonlight2R_1.2.0.tar.gz StartedAt: 2024-10-15 04:14:02 -0400 (Tue, 15 Oct 2024) EndedAt: 2024-10-15 04:28:20 -0400 (Tue, 15 Oct 2024) EllapsedTime: 858.0 seconds RetCode: 0 Status: OK CheckDir: Moonlight2R.Rcheck Warnings: 0