Package: Moonlight2R Version: 1.2.0 Command: rm -rf Moonlight2R.buildbin-libdir && mkdir Moonlight2R.buildbin-libdir && /Users/biocbuild/BBS/utils/build-universal.sh Moonlight2R_1.2.0.tar.gz /Library/Frameworks/R.framework/Resources/bin/R Moonlight2R.buildbin-libdir StartedAt: 2024-10-15 19:05:16 -0400 (Tue, 15 Oct 2024) EndedAt: 2024-10-15 19:06:34 -0400 (Tue, 15 Oct 2024) EllapsedTime: 77.8 seconds RetCode: 0 Status: OK PackageFile: Moonlight2R_1.2.0.tgz PackageFileSize: 4.297 MiB