Package: MoleculeExperiment Version: 1.4.1 Command: E:\biocbuild\bbs-3.19-bioc\R\bin\R.exe CMD INSTALL MoleculeExperiment StartedAt: 2024-10-16 17:22:28 -0400 (Wed, 16 Oct 2024) EndedAt: 2024-10-16 17:24:26 -0400 (Wed, 16 Oct 2024) EllapsedTime: 118.1 seconds RetCode: 0 Status: OK