Package: MoleculeExperiment Version: 1.4.1 Command: chmod a+r MoleculeExperiment -R && E:\biocbuild\bbs-3.19-bioc\R\bin\R.exe CMD build --keep-empty-dirs --no-resave-data MoleculeExperiment StartedAt: 2024-10-16 20:25:22 -0400 (Wed, 16 Oct 2024) EndedAt: 2024-10-16 20:30:43 -0400 (Wed, 16 Oct 2024) EllapsedTime: 321.5 seconds RetCode: 0 Status: OK PackageFile: MoleculeExperiment_1.4.1.tar.gz PackageFileSize: 12.82 MiB