Package: MoleculeExperiment Version: 1.4.1 Command: rm -rf MoleculeExperiment.buildbin-libdir && mkdir MoleculeExperiment.buildbin-libdir && E:\biocbuild\bbs-3.19-bioc\R\bin\R.exe CMD INSTALL --build --library=MoleculeExperiment.buildbin-libdir MoleculeExperiment_1.4.1.tar.gz StartedAt: 2024-10-17 08:10:22 -0400 (Thu, 17 Oct 2024) EndedAt: 2024-10-17 08:13:09 -0400 (Thu, 17 Oct 2024) EllapsedTime: 166.7 seconds RetCode: 0 Status: OK PackageFile: MoleculeExperiment_1.4.1.zip PackageFileSize: 9.537 MiB