Package: MoleculeExperiment Version: 1.4.1 Command: chmod a+r MoleculeExperiment -R && F:\biocbuild\bbs-3.19-bioc\R\bin\R.exe CMD build --keep-empty-dirs --no-resave-data MoleculeExperiment StartedAt: 2024-06-26 20:11:47 -0400 (Wed, 26 Jun 2024) EndedAt: 2024-06-26 20:17:31 -0400 (Wed, 26 Jun 2024) EllapsedTime: 343.2 seconds RetCode: 0 Status: OK PackageFile: MoleculeExperiment_1.4.1.tar.gz PackageFileSize: 12.82 MiB