Package: MoleculeExperiment Version: 1.4.1 Command: /home/biocbuild/bbs-3.19-bioc/R/bin/R CMD INSTALL MoleculeExperiment StartedAt: 2024-10-16 16:46:44 -0400 (Wed, 16 Oct 2024) EndedAt: 2024-10-16 16:47:25 -0400 (Wed, 16 Oct 2024) EllapsedTime: 40.7 seconds RetCode: 0 Status: OK