Package: MoleculeExperiment Version: 1.4.1 Command: /home/biocbuild/bbs-3.19-bioc/R/bin/R CMD check --install=check:MoleculeExperiment.install-out.txt --library=/home/biocbuild/bbs-3.19-bioc/R/site-library --timings MoleculeExperiment_1.4.1.tar.gz StartedAt: 2024-10-17 02:39:12 -0400 (Thu, 17 Oct 2024) EndedAt: 2024-10-17 02:46:11 -0400 (Thu, 17 Oct 2024) EllapsedTime: 418.8 seconds RetCode: 0 Status: OK CheckDir: MoleculeExperiment.Rcheck Warnings: 0