Package: MoleculeExperiment Version: 1.4.1 Command: /home/biocbuild/bbs-3.19-bioc/R/bin/R CMD build --keep-empty-dirs --no-resave-data MoleculeExperiment StartedAt: 2024-10-16 19:35:00 -0400 (Wed, 16 Oct 2024) EndedAt: 2024-10-16 19:36:48 -0400 (Wed, 16 Oct 2024) EllapsedTime: 108.2 seconds RetCode: 0 Status: OK PackageFile: MoleculeExperiment_1.4.1.tar.gz PackageFileSize: 15.39 MiB