Package: MoleculeExperiment Version: 1.4.1 Command: rm -rf MoleculeExperiment.buildbin-libdir && mkdir MoleculeExperiment.buildbin-libdir && /Users/biocbuild/BBS/utils/build-universal.sh MoleculeExperiment_1.4.1.tar.gz /Library/Frameworks/R.framework/Resources/bin/R MoleculeExperiment.buildbin-libdir StartedAt: 2024-06-10 00:27:51 -0400 (Mon, 10 Jun 2024) EndedAt: 2024-06-10 00:28:51 -0400 (Mon, 10 Jun 2024) EllapsedTime: 59.9 seconds RetCode: 0 Status: OK PackageFile: MoleculeExperiment_1.4.1.tgz PackageFileSize: 12.56 MiB