Package: MoleculeExperiment Version: 1.4.0 Command: /home/biocbuild/R/R-beta-2024-04-15_r86425/bin/R CMD INSTALL MoleculeExperiment StartedAt: 2024-05-08 21:07:13 -0000 (Wed, 08 May 2024) EndedAt: 2024-05-08 21:08:13 -0000 (Wed, 08 May 2024) EllapsedTime: 60.0 seconds RetCode: 0 Status: OK