Package: MoleculeExperiment Version: 1.4.1 Command: /Library/Frameworks/R.framework/Resources/bin/R CMD check --install=check:MoleculeExperiment.install-out.txt --library=/Library/Frameworks/R.framework/Resources/library --no-vignettes --timings MoleculeExperiment_1.4.1.tar.gz StartedAt: 2024-06-10 22:37:26 -0400 (Mon, 10 Jun 2024) EndedAt: 2024-06-10 22:46:22 -0400 (Mon, 10 Jun 2024) EllapsedTime: 535.9 seconds RetCode: 0 Status: OK CheckDir: MoleculeExperiment.Rcheck Warnings: 0