Package: MoleculeExperiment Version: 1.4.1 Command: rm -rf MoleculeExperiment.buildbin-libdir && mkdir MoleculeExperiment.buildbin-libdir && /Users/biocbuild/BBS/utils/build-universal.sh MoleculeExperiment_1.4.1.tar.gz /Library/Frameworks/R.framework/Resources/bin/R MoleculeExperiment.buildbin-libdir StartedAt: 2024-06-11 12:08:03 -0400 (Tue, 11 Jun 2024) EndedAt: 2024-06-11 12:09:29 -0400 (Tue, 11 Jun 2024) EllapsedTime: 85.8 seconds RetCode: 0 Status: OK PackageFile: MoleculeExperiment_1.4.1.tgz PackageFileSize: 12.57 MiB