Package: MoleculeExperiment Version: 1.4.1 Command: /Library/Frameworks/R.framework/Resources/bin/R CMD check --install=check:MoleculeExperiment.install-out.txt --library=/Library/Frameworks/R.framework/Resources/library --no-vignettes --timings MoleculeExperiment_1.4.1.tar.gz StartedAt: 2024-10-18 04:40:01 -0400 (Fri, 18 Oct 2024) EndedAt: 2024-10-18 04:46:33 -0400 (Fri, 18 Oct 2024) EllapsedTime: 392.0 seconds RetCode: 0 Status: OK CheckDir: MoleculeExperiment.Rcheck Warnings: 0