Package: MoleculeExperiment Version: 1.4.1 Command: /Library/Frameworks/R.framework/Resources/bin/R CMD build --keep-empty-dirs --no-resave-data MoleculeExperiment StartedAt: 2024-10-17 04:53:03 -0400 (Thu, 17 Oct 2024) EndedAt: 2024-10-17 04:55:12 -0400 (Thu, 17 Oct 2024) EllapsedTime: 129.2 seconds RetCode: 0 Status: OK PackageFile: MoleculeExperiment_1.4.1.tar.gz PackageFileSize: 15.83 MiB