Package: Modstrings Version: 1.20.0 Command: chmod a+r Modstrings -R && F:\biocbuild\bbs-3.19-bioc\R\bin\R.exe CMD build --keep-empty-dirs --no-resave-data Modstrings StartedAt: 2024-06-26 20:10:43 -0400 (Wed, 26 Jun 2024) EndedAt: 2024-06-26 20:11:57 -0400 (Wed, 26 Jun 2024) EllapsedTime: 74.5 seconds RetCode: 0 Status: OK PackageFile: Modstrings_1.20.0.tar.gz PackageFileSize: 824 KiB