Package: Modstrings Version: 1.20.0 Command: /Library/Frameworks/R.framework/Resources/bin/R CMD INSTALL Modstrings StartedAt: 2024-10-16 15:24:28 -0400 (Wed, 16 Oct 2024) EndedAt: 2024-10-16 15:25:18 -0400 (Wed, 16 Oct 2024) EllapsedTime: 49.0 seconds RetCode: 0 Status: OK