Package: Modstrings Version: 1.20.0 Command: /Library/Frameworks/R.framework/Resources/bin/R CMD build --keep-empty-dirs --no-resave-data Modstrings StartedAt: 2024-10-16 21:06:30 -0400 (Wed, 16 Oct 2024) EndedAt: 2024-10-16 21:08:10 -0400 (Wed, 16 Oct 2024) EllapsedTime: 99.8 seconds RetCode: 0 Status: OK PackageFile: Modstrings_1.20.0.tar.gz PackageFileSize: 823.2 KiB