Package: Modstrings Version: 1.20.0 Command: rm -rf Modstrings.buildbin-libdir && mkdir Modstrings.buildbin-libdir && /Users/biocbuild/BBS/utils/build-universal.sh Modstrings_1.20.0.tar.gz /Library/Frameworks/R.framework/Resources/bin/R Modstrings.buildbin-libdir StartedAt: 2024-06-11 12:07:41 -0400 (Tue, 11 Jun 2024) EndedAt: 2024-06-11 12:08:20 -0400 (Tue, 11 Jun 2024) EllapsedTime: 39.1 seconds RetCode: 0 Status: OK PackageFile: Modstrings_1.20.0.tgz PackageFileSize: 1.348 MiB