Package: Modstrings Version: 1.20.0 Command: rm -rf Modstrings.buildbin-libdir && mkdir Modstrings.buildbin-libdir && /Users/biocbuild/BBS/utils/build-universal.sh Modstrings_1.20.0.tar.gz /Library/Frameworks/R.framework/Resources/bin/R Modstrings.buildbin-libdir StartedAt: 2024-10-18 19:31:33 -0400 (Fri, 18 Oct 2024) EndedAt: 2024-10-18 19:31:59 -0400 (Fri, 18 Oct 2024) EllapsedTime: 26.3 seconds RetCode: 0 Status: OK PackageFile: Modstrings_1.20.0.tgz PackageFileSize: 1.347 MiB