Package: ModCon Version: 1.12.0 Command: chmod a+r ModCon -R && E:\biocbuild\bbs-3.19-bioc\R\bin\R.exe CMD build --keep-empty-dirs --no-resave-data ModCon StartedAt: 2024-10-16 20:24:32 -0400 (Wed, 16 Oct 2024) EndedAt: 2024-10-16 20:27:09 -0400 (Wed, 16 Oct 2024) EllapsedTime: 156.8 seconds RetCode: 0 Status: OK PackageFile: ModCon_1.12.0.tar.gz PackageFileSize: 1.911 MiB