Package: ModCon Version: 1.12.0 Command: chmod a+r ModCon -R && F:\biocbuild\bbs-3.19-bioc\R\bin\R.exe CMD build --keep-empty-dirs --no-resave-data ModCon StartedAt: 2024-06-26 20:10:18 -0400 (Wed, 26 Jun 2024) EndedAt: 2024-06-26 20:13:17 -0400 (Wed, 26 Jun 2024) EllapsedTime: 179.0 seconds RetCode: 0 Status: OK PackageFile: ModCon_1.12.0.tar.gz PackageFileSize: 1.911 MiB