Package: ModCon Version: 1.12.0 Command: rm -rf ModCon.buildbin-libdir && mkdir ModCon.buildbin-libdir && F:\biocbuild\bbs-3.19-bioc\R\bin\R.exe CMD INSTALL --build --library=ModCon.buildbin-libdir ModCon_1.12.0.tar.gz StartedAt: 2024-06-27 08:31:50 -0400 (Thu, 27 Jun 2024) EndedAt: 2024-06-27 08:32:06 -0400 (Thu, 27 Jun 2024) EllapsedTime: 15.3 seconds RetCode: 0 Status: OK PackageFile: ModCon_1.12.0.zip PackageFileSize: 1.931 MiB