Package: ModCon Version: 1.12.0 Command: /home/biocbuild/R/R-beta-2024-04-15_r86425/bin/R CMD build --keep-empty-dirs --no-resave-data ModCon StartedAt: 2024-05-09 01:48:11 -0000 (Thu, 09 May 2024) EndedAt: 2024-05-09 01:51:07 -0000 (Thu, 09 May 2024) EllapsedTime: 176.2 seconds RetCode: 0 Status: OK PackageFile: ModCon_1.12.0.tar.gz PackageFileSize: 1.932 MiB