Package: ModCon Version: 1.12.0 Command: rm -rf ModCon.buildbin-libdir && mkdir ModCon.buildbin-libdir && /Users/biocbuild/BBS/utils/build-universal.sh ModCon_1.12.0.tar.gz /Library/Frameworks/R.framework/Resources/bin/R ModCon.buildbin-libdir StartedAt: 2024-10-18 19:31:18 -0400 (Fri, 18 Oct 2024) EndedAt: 2024-10-18 19:31:33 -0400 (Fri, 18 Oct 2024) EllapsedTime: 14.7 seconds RetCode: 0 Status: OK PackageFile: ModCon_1.12.0.tgz PackageFileSize: 1.967 MiB