Package: MobilityTransformR Version: 1.8.0 Command: chmod a+r MobilityTransformR -R && F:\biocbuild\bbs-3.19-bioc\R\bin\R.exe CMD build --keep-empty-dirs --no-resave-data MobilityTransformR StartedAt: 2024-06-26 20:10:03 -0400 (Wed, 26 Jun 2024) EndedAt: 2024-06-26 20:13:36 -0400 (Wed, 26 Jun 2024) EllapsedTime: 212.6 seconds RetCode: 0 Status: OK PackageFile: MobilityTransformR_1.8.0.tar.gz PackageFileSize: 356.6 KiB