Package: MobilityTransformR Version: 1.8.0 Command: /Library/Frameworks/R.framework/Resources/bin/R CMD build --keep-empty-dirs --no-resave-data MobilityTransformR StartedAt: 2024-10-16 21:05:25 -0400 (Wed, 16 Oct 2024) EndedAt: 2024-10-16 21:09:07 -0400 (Wed, 16 Oct 2024) EllapsedTime: 222.2 seconds RetCode: 0 Status: OK PackageFile: MobilityTransformR_1.8.0.tar.gz PackageFileSize: 397.8 KiB