Package: MobilityTransformR Version: 1.8.0 Command: /Library/Frameworks/R.framework/Resources/bin/R CMD INSTALL MobilityTransformR StartedAt: 2024-10-16 17:38:56 -0400 (Wed, 16 Oct 2024) EndedAt: 2024-10-16 17:39:45 -0400 (Wed, 16 Oct 2024) EllapsedTime: 48.8 seconds RetCode: 0 Status: OK