Package: MinimumDistance Version: 1.48.0 Command: chmod a+r MinimumDistance -R && E:\biocbuild\bbs-3.19-bioc\R\bin\R.exe CMD build --keep-empty-dirs --no-resave-data MinimumDistance StartedAt: 2024-10-16 20:19:38 -0400 (Wed, 16 Oct 2024) EndedAt: 2024-10-16 20:21:39 -0400 (Wed, 16 Oct 2024) EllapsedTime: 121.0 seconds RetCode: 0 Status: OK PackageFile: MinimumDistance_1.48.0.tar.gz PackageFileSize: 2.402 MiB