Package: MinimumDistance Version: 1.48.0 Command: F:\biocbuild\bbs-3.19-bioc\R\bin\R.exe CMD check --no-multiarch --install=check:MinimumDistance.install-out.txt --library=F:\biocbuild\bbs-3.19-bioc\R\library --no-vignettes --timings MinimumDistance_1.48.0.tar.gz StartedAt: 2024-06-27 03:39:41 -0400 (Thu, 27 Jun 2024) EndedAt: 2024-06-27 03:45:26 -0400 (Thu, 27 Jun 2024) EllapsedTime: 344.4 seconds RetCode: 0 Status: WARNINGS CheckDir: MinimumDistance.Rcheck Warnings: 4