Package: MinimumDistance Version: 1.48.0 Command: /Library/Frameworks/R.framework/Resources/bin/R CMD build --keep-empty-dirs --no-resave-data MinimumDistance StartedAt: 2024-10-16 20:55:27 -0400 (Wed, 16 Oct 2024) EndedAt: 2024-10-16 20:59:19 -0400 (Wed, 16 Oct 2024) EllapsedTime: 232.1 seconds RetCode: 0 Status: OK PackageFile: MinimumDistance_1.48.0.tar.gz PackageFileSize: 2.553 MiB