Package: MineICA Version: 1.44.0 Command: F:\biocbuild\bbs-3.19-bioc\R\bin\R.exe CMD check --no-multiarch --install=check:MineICA.install-out.txt --library=F:\biocbuild\bbs-3.19-bioc\R\library --no-vignettes --timings MineICA_1.44.0.tar.gz StartedAt: 2024-06-27 03:38:27 -0400 (Thu, 27 Jun 2024) EndedAt: 2024-06-27 03:43:40 -0400 (Thu, 27 Jun 2024) EllapsedTime: 312.9 seconds RetCode: 0 Status: WARNINGS CheckDir: MineICA.Rcheck Warnings: 3