Package: MicrobiotaProcess Version: 1.16.0 Command: F:\biocbuild\bbs-3.19-bioc\R\bin\R.exe CMD INSTALL MicrobiotaProcess StartedAt: 2024-06-26 16:34:19 -0400 (Wed, 26 Jun 2024) EndedAt: 2024-06-26 16:36:03 -0400 (Wed, 26 Jun 2024) EllapsedTime: 103.6 seconds RetCode: 0 Status: OK