Package: MicrobiotaProcess Version: 1.16.0 Command: /Library/Frameworks/R.framework/Resources/bin/R CMD build --keep-empty-dirs --no-resave-data MicrobiotaProcess StartedAt: 2024-06-09 17:15:59 -0400 (Sun, 09 Jun 2024) EndedAt: 2024-06-09 17:18:50 -0400 (Sun, 09 Jun 2024) EllapsedTime: 171.3 seconds RetCode: 0 Status: OK PackageFile: MicrobiotaProcess_1.16.0.tar.gz PackageFileSize: 4.973 MiB