Package: MicrobiotaProcess Version: 1.16.0 Command: rm -rf MicrobiotaProcess.buildbin-libdir && mkdir MicrobiotaProcess.buildbin-libdir && /Users/biocbuild/BBS/utils/build-universal.sh MicrobiotaProcess_1.16.0.tar.gz /Library/Frameworks/R.framework/Resources/bin/R MicrobiotaProcess.buildbin-libdir StartedAt: 2024-06-10 00:26:55 -0400 (Mon, 10 Jun 2024) EndedAt: 2024-06-10 00:28:26 -0400 (Mon, 10 Jun 2024) EllapsedTime: 91.1 seconds RetCode: 0 Status: OK PackageFile: MicrobiotaProcess_1.16.0.tgz PackageFileSize: 5.712 MiB