Package: MicrobiotaProcess Version: 1.16.0 Command: /home/biocbuild/R/R-beta-2024-04-15_r86425/bin/R CMD build --keep-empty-dirs --no-resave-data MicrobiotaProcess StartedAt: 2024-05-09 01:38:34 -0000 (Thu, 09 May 2024) EndedAt: 2024-05-09 01:42:15 -0000 (Thu, 09 May 2024) EllapsedTime: 221.3 seconds RetCode: 0 Status: OK PackageFile: MicrobiotaProcess_1.16.0.tar.gz PackageFileSize: 3.742 MiB